BEGIN:VCALENDAR
VERSION:2.0
PRODID:-//Gender &amp; Faith Network ZImbabwe - ECPv6.15.12.2//NONSGML v1.0//EN
CALSCALE:GREGORIAN
METHOD:PUBLISH
X-WR-CALNAME:Gender &amp; Faith Network ZImbabwe
X-ORIGINAL-URL:https://gfnzw.org
X-WR-CALDESC:Events for Gender &amp; Faith Network ZImbabwe
REFRESH-INTERVAL;VALUE=DURATION:PT1H
X-Robots-Tag:noindex
X-PUBLISHED-TTL:PT1H
BEGIN:VTIMEZONE
TZID:Africa/Harare
BEGIN:STANDARD
TZOFFSETFROM:+0200
TZOFFSETTO:+0200
TZNAME:CAT
DTSTART:20250101T000000
END:STANDARD
END:VTIMEZONE
BEGIN:VEVENT
DTSTART;TZID=Africa/Harare:20260312T080000
DTEND;TZID=Africa/Harare:20260312T170000
DTSTAMP:20260420T041244
CREATED:20260310T183729Z
LAST-MODIFIED:20260310T185051Z
UID:1471-1773302400-1773334800@gfnzw.org
SUMMARY:International Women's Day Commemorations
DESCRIPTION:Gender and Faith Network (GFN) is proud to be joining the Ministry of Women Affairs\, Community\, Small and Medium Enterprises Development at the National International Women’s Day Commemorations in Bindura as we celebrate women’s achievements and renew our commitment to gender justice. \n\n\n\nI\n\n\n\nThis years theme is Rights.Justice.Action for all women and girls.As we mark International Women’s Day and the entire Women’s Month\, GFN stands guided by Christian values of dignity\, equality\, and justice promoting women’s leadership\, peacebuilding\, and the prevention of gender-based violence within our communities.
URL:https://gfnzw.org/event/international-womens-day-commemorations/
LOCATION:Angican Cathedral\, Harare\, 87 Kwame Nkrumah Ave\, Harare\, Zimbabwe\, 0000\, Zimbabwe
ATTACH;FMTTYPE=image/jpeg:https://gfnzw.org/wp-content/uploads/2026/03/036c0df0-7a22-44c2-92ae-02a9e06336a3.jpg
END:VEVENT
END:VCALENDAR