BEGIN:VCALENDAR
VERSION:2.0
PRODID:-//Gender &amp; Faith Network ZImbabwe - ECPv6.15.12.2//NONSGML v1.0//EN
CALSCALE:GREGORIAN
METHOD:PUBLISH
X-ORIGINAL-URL:https://gfnzw.org
X-WR-CALDESC:Events for Gender &amp; Faith Network ZImbabwe
REFRESH-INTERVAL;VALUE=DURATION:PT1H
X-Robots-Tag:noindex
X-PUBLISHED-TTL:PT1H
BEGIN:VTIMEZONE
TZID:Africa/Harare
BEGIN:STANDARD
TZOFFSETFROM:+0200
TZOFFSETTO:+0200
TZNAME:CAT
DTSTART:20240101T000000
END:STANDARD
END:VTIMEZONE
BEGIN:VEVENT
DTSTART;VALUE=DATE:20251125
DTEND;VALUE=DATE:20251211
DTSTAMP:20260419T220213
CREATED:20251210T154421Z
LAST-MODIFIED:20251210T154421Z
UID:1224-1764028800-1765411199@gfnzw.org
SUMMARY:16 DAys of Activism Against Gender-Based Violence
DESCRIPTION:Join us for the 16 Days of Activism Against Gender-Based Violence\, an annual global campaign dedicated to raising awareness\, inspiring action\, and strengthening efforts to end all forms of violence against women and girls. Running from 25 November to 10 December\, this campaign brings together communities\, organisations\, and leaders to advocate for safety\, justice\, and equality. \nThis year\, we highlight the urgent need to address digital violence\, including online harassment\, abuse\, and exploitation targeting women and girls. Through dialogues\, workshops\, community outreach\, and digital campaigns\, we aim to empower survivors\, educate the public\, and promote stronger protection mechanisms. \nTogether\, we stand in solidarity to build a society where every woman and girl is safe — online and offline.
URL:https://gfnzw.org/event/16-days-of-activism-against-gender-based-violence/
LOCATION:Harare Showgrounds\, Belvedere\, Harare\, Harare\, Harare\, 0000\, Zimbabwe
ORGANIZER;CN="GFN":MAILTO:admin@gfnzw.org
END:VEVENT
END:VCALENDAR